BEGIN:VCALENDAR
VERSION:2.0
PRODID:-//Town of Brockway - ECPv6.15.18//NONSGML v1.0//EN
CALSCALE:GREGORIAN
METHOD:PUBLISH
X-WR-CALNAME:Town of Brockway
X-ORIGINAL-URL:https://townofbrockway.com
X-WR-CALDESC:Events for Town of Brockway
REFRESH-INTERVAL;VALUE=DURATION:PT1H
X-Robots-Tag:noindex
X-PUBLISHED-TTL:PT1H
BEGIN:VTIMEZONE
TZID:America/Chicago
BEGIN:DAYLIGHT
TZOFFSETFROM:-0600
TZOFFSETTO:-0500
TZNAME:CDT
DTSTART:20230312T080000
END:DAYLIGHT
BEGIN:STANDARD
TZOFFSETFROM:-0500
TZOFFSETTO:-0600
TZNAME:CST
DTSTART:20231105T070000
END:STANDARD
BEGIN:DAYLIGHT
TZOFFSETFROM:-0600
TZOFFSETTO:-0500
TZNAME:CDT
DTSTART:20240310T080000
END:DAYLIGHT
BEGIN:STANDARD
TZOFFSETFROM:-0500
TZOFFSETTO:-0600
TZNAME:CST
DTSTART:20241103T070000
END:STANDARD
BEGIN:DAYLIGHT
TZOFFSETFROM:-0600
TZOFFSETTO:-0500
TZNAME:CDT
DTSTART:20250309T080000
END:DAYLIGHT
BEGIN:STANDARD
TZOFFSETFROM:-0500
TZOFFSETTO:-0600
TZNAME:CST
DTSTART:20251102T070000
END:STANDARD
END:VTIMEZONE
BEGIN:VEVENT
DTSTART;VALUE=DATE:20241206
DTEND;VALUE=DATE:20241207
DTSTAMP:20260425T073408
CREATED:20240902T020322Z
LAST-MODIFIED:20240902T020322Z
UID:3110-1733443200-1733529599@townofbrockway.com
SUMMARY:Trash & Recycle
DESCRIPTION:
URL:https://townofbrockway.com/event/trash-recycle-7/
END:VEVENT
BEGIN:VEVENT
DTSTART;TZID=America/Chicago:20241211T190000
DTEND;TZID=America/Chicago:20241211T200000
DTSTAMP:20260425T073408
CREATED:20240902T020246Z
LAST-MODIFIED:20240902T020246Z
UID:3108-1733943600-1733947200@townofbrockway.com
SUMMARY:Monthly Meeting
DESCRIPTION:
URL:https://townofbrockway.com/event/monthly-meeting-10/
END:VEVENT
BEGIN:VEVENT
DTSTART;VALUE=DATE:20241213
DTEND;VALUE=DATE:20241214
DTSTAMP:20260425T073408
CREATED:20240902T020407Z
LAST-MODIFIED:20240902T020407Z
UID:3112-1734048000-1734134399@townofbrockway.com
SUMMARY:Trash Only
DESCRIPTION:
URL:https://townofbrockway.com/event/trash-only-8/
END:VEVENT
BEGIN:VEVENT
DTSTART;VALUE=DATE:20241218
DTEND;VALUE=DATE:20241219
DTSTAMP:20260425T073408
CREATED:20240902T020712Z
LAST-MODIFIED:20240902T020718Z
UID:3118-1734480000-1734566399@townofbrockway.com
SUMMARY:Brush & Metal
DESCRIPTION:
URL:https://townofbrockway.com/event/brush-metal-2/
END:VEVENT
BEGIN:VEVENT
DTSTART;VALUE=DATE:20241220
DTEND;VALUE=DATE:20241221
DTSTAMP:20260425T073408
CREATED:20240902T020600Z
LAST-MODIFIED:20240902T020600Z
UID:3114-1734652800-1734739199@townofbrockway.com
SUMMARY:Trash & Recycle
DESCRIPTION:
URL:https://townofbrockway.com/event/trash-recycle-8/
END:VEVENT
BEGIN:VEVENT
DTSTART;VALUE=DATE:20241227
DTEND;VALUE=DATE:20241228
DTSTAMP:20260425T073408
CREATED:20240902T020632Z
LAST-MODIFIED:20240902T020632Z
UID:3116-1735257600-1735343999@townofbrockway.com
SUMMARY:Trash Only
DESCRIPTION:
URL:https://townofbrockway.com/event/trash-only-9/
END:VEVENT
END:VCALENDAR