BEGIN:VCALENDAR
VERSION:2.0
PRODID:-//Town of Brockway - ECPv6.15.18//NONSGML v1.0//EN
CALSCALE:GREGORIAN
METHOD:PUBLISH
X-ORIGINAL-URL:https://townofbrockway.com
X-WR-CALDESC:Events for Town of Brockway
REFRESH-INTERVAL;VALUE=DURATION:PT1H
X-Robots-Tag:noindex
X-PUBLISHED-TTL:PT1H
BEGIN:VTIMEZONE
TZID:America/Chicago
BEGIN:DAYLIGHT
TZOFFSETFROM:-0600
TZOFFSETTO:-0500
TZNAME:CDT
DTSTART:20240310T080000
END:DAYLIGHT
BEGIN:STANDARD
TZOFFSETFROM:-0500
TZOFFSETTO:-0600
TZNAME:CST
DTSTART:20241103T070000
END:STANDARD
BEGIN:DAYLIGHT
TZOFFSETFROM:-0600
TZOFFSETTO:-0500
TZNAME:CDT
DTSTART:20250309T080000
END:DAYLIGHT
BEGIN:STANDARD
TZOFFSETFROM:-0500
TZOFFSETTO:-0600
TZNAME:CST
DTSTART:20251102T070000
END:STANDARD
BEGIN:DAYLIGHT
TZOFFSETFROM:-0600
TZOFFSETTO:-0500
TZNAME:CDT
DTSTART:20260308T080000
END:DAYLIGHT
BEGIN:STANDARD
TZOFFSETFROM:-0500
TZOFFSETTO:-0600
TZNAME:CST
DTSTART:20261101T070000
END:STANDARD
END:VTIMEZONE
BEGIN:VEVENT
DTSTART;TZID=America/Chicago:20250108T190000
DTEND;TZID=America/Chicago:20250108T200000
DTSTAMP:20260425T060315
CREATED:20250101T204041Z
LAST-MODIFIED:20250101T204041Z
UID:3196-1736362800-1736366400@townofbrockway.com
SUMMARY:Monthly Meeting
DESCRIPTION:
URL:https://townofbrockway.com/event/monthly-meeting-11/
END:VEVENT
BEGIN:VEVENT
DTSTART;VALUE=DATE:20250110
DTEND;VALUE=DATE:20250111
DTSTAMP:20260425T060315
CREATED:20250111T020817Z
LAST-MODIFIED:20250111T234820Z
UID:3221-1736467200-1736553599@townofbrockway.com
SUMMARY:Trash Only
DESCRIPTION:
URL:https://townofbrockway.com/event/trash-only-10/
END:VEVENT
BEGIN:VEVENT
DTSTART;VALUE=DATE:20250117
DTEND;VALUE=DATE:20250118
DTSTAMP:20260425T060315
CREATED:20250111T020908Z
LAST-MODIFIED:20250111T234849Z
UID:3223-1737072000-1737158399@townofbrockway.com
SUMMARY:Trash & Recycle
DESCRIPTION:
URL:https://townofbrockway.com/event/trash-recycle-9/
END:VEVENT
BEGIN:VEVENT
DTSTART;VALUE=DATE:20250124
DTEND;VALUE=DATE:20250125
DTSTAMP:20260425T060315
CREATED:20250111T235220Z
LAST-MODIFIED:20250111T235220Z
UID:3232-1737676800-1737763199@townofbrockway.com
SUMMARY:Trash Only
DESCRIPTION:
URL:https://townofbrockway.com/event/trash-only-11/
END:VEVENT
BEGIN:VEVENT
DTSTART;VALUE=DATE:20250129
DTEND;VALUE=DATE:20250130
DTSTAMP:20260425T060315
CREATED:20250111T234544Z
LAST-MODIFIED:20250111T234544Z
UID:3228-1738108800-1738195199@townofbrockway.com
SUMMARY:BRUSH
DESCRIPTION:
URL:https://townofbrockway.com/event/brush/
END:VEVENT
BEGIN:VEVENT
DTSTART;VALUE=DATE:20250131
DTEND;VALUE=DATE:20250201
DTSTAMP:20260425T060315
CREATED:20250111T235139Z
LAST-MODIFIED:20250111T235139Z
UID:3230-1738281600-1738367999@townofbrockway.com
SUMMARY:Trash & Recycle
DESCRIPTION:
URL:https://townofbrockway.com/event/trash-recycle-10/
END:VEVENT
END:VCALENDAR