BEGIN:VCALENDAR
VERSION:2.0
PRODID:-//Town of Brockway - ECPv6.15.18//NONSGML v1.0//EN
CALSCALE:GREGORIAN
METHOD:PUBLISH
X-ORIGINAL-URL:https://townofbrockway.com
X-WR-CALDESC:Events for Town of Brockway
REFRESH-INTERVAL;VALUE=DURATION:PT1H
X-Robots-Tag:noindex
X-PUBLISHED-TTL:PT1H
BEGIN:VTIMEZONE
TZID:America/Chicago
BEGIN:DAYLIGHT
TZOFFSETFROM:-0600
TZOFFSETTO:-0500
TZNAME:CDT
DTSTART:20240310T080000
END:DAYLIGHT
BEGIN:STANDARD
TZOFFSETFROM:-0500
TZOFFSETTO:-0600
TZNAME:CST
DTSTART:20241103T070000
END:STANDARD
BEGIN:DAYLIGHT
TZOFFSETFROM:-0600
TZOFFSETTO:-0500
TZNAME:CDT
DTSTART:20250309T080000
END:DAYLIGHT
BEGIN:STANDARD
TZOFFSETFROM:-0500
TZOFFSETTO:-0600
TZNAME:CST
DTSTART:20251102T070000
END:STANDARD
BEGIN:DAYLIGHT
TZOFFSETFROM:-0600
TZOFFSETTO:-0500
TZNAME:CDT
DTSTART:20260308T080000
END:DAYLIGHT
BEGIN:STANDARD
TZOFFSETFROM:-0500
TZOFFSETTO:-0600
TZNAME:CST
DTSTART:20261101T070000
END:STANDARD
END:VTIMEZONE
BEGIN:VEVENT
DTSTART;VALUE=DATE:20250606
DTEND;VALUE=DATE:20250607
DTSTAMP:20260424T224548
CREATED:20250508T225413Z
LAST-MODIFIED:20250508T225413Z
UID:3376-1749168000-1749254399@townofbrockway.com
SUMMARY:Trash & Recycle Collection
DESCRIPTION:
URL:https://townofbrockway.com/event/trash-recycle-collection-2/
END:VEVENT
BEGIN:VEVENT
DTSTART;TZID=America/Chicago:20250611T174500
DTEND;TZID=America/Chicago:20250611T190000
DTSTAMP:20260424T224548
CREATED:20250508T225311Z
LAST-MODIFIED:20250508T225311Z
UID:3374-1749663900-1749668400@townofbrockway.com
SUMMARY:Sanitary Board Meeting
DESCRIPTION:
URL:https://townofbrockway.com/event/sanitary-board-meeting-2/
END:VEVENT
BEGIN:VEVENT
DTSTART;TZID=America/Chicago:20250611T190000
DTEND;TZID=America/Chicago:20250611T200000
DTSTAMP:20260424T224548
CREATED:20250101T204357Z
LAST-MODIFIED:20250101T204357Z
UID:3206-1749668400-1749672000@townofbrockway.com
SUMMARY:Monthly Meeting
DESCRIPTION:
URL:https://townofbrockway.com/event/monthly-meeting-16/
END:VEVENT
BEGIN:VEVENT
DTSTART;VALUE=DATE:20250613
DTEND;VALUE=DATE:20250614
DTSTAMP:20260424T224548
CREATED:20250508T225444Z
LAST-MODIFIED:20250508T225623Z
UID:3378-1749772800-1749859199@townofbrockway.com
SUMMARY:Trash Only Collection
DESCRIPTION:
URL:https://townofbrockway.com/event/trash-only-collection-4/
END:VEVENT
BEGIN:VEVENT
DTSTART;VALUE=DATE:20250620
DTEND;VALUE=DATE:20250621
DTSTAMP:20260424T224548
CREATED:20250508T225714Z
LAST-MODIFIED:20250508T225714Z
UID:3380-1750377600-1750463999@townofbrockway.com
SUMMARY:Trash Only Collection
DESCRIPTION:
URL:https://townofbrockway.com/event/trash-only-collection-5/
END:VEVENT
BEGIN:VEVENT
DTSTART;VALUE=DATE:20250625
DTEND;VALUE=DATE:20250626
DTSTAMP:20260424T224548
CREATED:20250508T225825Z
LAST-MODIFIED:20250508T225825Z
UID:3384-1750809600-1750895999@townofbrockway.com
SUMMARY:Brush Collection
DESCRIPTION:
URL:https://townofbrockway.com/event/brush-collection-2/
END:VEVENT
BEGIN:VEVENT
DTSTART;VALUE=DATE:20250627
DTEND;VALUE=DATE:20250628
DTSTAMP:20260424T224548
CREATED:20250508T225742Z
LAST-MODIFIED:20250508T225742Z
UID:3382-1750982400-1751068799@townofbrockway.com
SUMMARY:Trash & Recycle Collection
DESCRIPTION:
URL:https://townofbrockway.com/event/trash-recycle-collection-3/
END:VEVENT
END:VCALENDAR