BEGIN:VCALENDAR
VERSION:2.0
PRODID:-//Town of Brockway - ECPv6.15.18//NONSGML v1.0//EN
CALSCALE:GREGORIAN
METHOD:PUBLISH
X-ORIGINAL-URL:https://townofbrockway.com
X-WR-CALDESC:Events for Town of Brockway
REFRESH-INTERVAL;VALUE=DURATION:PT1H
X-Robots-Tag:noindex
X-PUBLISHED-TTL:PT1H
BEGIN:VTIMEZONE
TZID:America/Chicago
BEGIN:DAYLIGHT
TZOFFSETFROM:-0600
TZOFFSETTO:-0500
TZNAME:CDT
DTSTART:20240310T080000
END:DAYLIGHT
BEGIN:STANDARD
TZOFFSETFROM:-0500
TZOFFSETTO:-0600
TZNAME:CST
DTSTART:20241103T070000
END:STANDARD
BEGIN:DAYLIGHT
TZOFFSETFROM:-0600
TZOFFSETTO:-0500
TZNAME:CDT
DTSTART:20250309T080000
END:DAYLIGHT
BEGIN:STANDARD
TZOFFSETFROM:-0500
TZOFFSETTO:-0600
TZNAME:CST
DTSTART:20251102T070000
END:STANDARD
BEGIN:DAYLIGHT
TZOFFSETFROM:-0600
TZOFFSETTO:-0500
TZNAME:CDT
DTSTART:20260308T080000
END:DAYLIGHT
BEGIN:STANDARD
TZOFFSETFROM:-0500
TZOFFSETTO:-0600
TZNAME:CST
DTSTART:20261101T070000
END:STANDARD
END:VTIMEZONE
BEGIN:VEVENT
DTSTART;VALUE=DATE:20250801
DTEND;VALUE=DATE:20250802
DTSTAMP:20260424T185424
CREATED:20250709T091448Z
LAST-MODIFIED:20250709T091448Z
UID:3422-1754006400-1754092799@townofbrockway.com
SUMMARY:Trash & Recycle Collection
DESCRIPTION:
URL:https://townofbrockway.com/event/trash-recycle-collection-6/
END:VEVENT
BEGIN:VEVENT
DTSTART;VALUE=DATE:20250808
DTEND;VALUE=DATE:20250809
DTSTAMP:20260424T185424
CREATED:20250709T091519Z
LAST-MODIFIED:20250709T091519Z
UID:3424-1754611200-1754697599@townofbrockway.com
SUMMARY:Trash Only
DESCRIPTION:
URL:https://townofbrockway.com/event/trash-only-15/
END:VEVENT
BEGIN:VEVENT
DTSTART;TZID=America/Chicago:20250813T190000
DTEND;TZID=America/Chicago:20250813T200000
DTSTAMP:20260424T185424
CREATED:20250101T204455Z
LAST-MODIFIED:20250101T204455Z
UID:3210-1755111600-1755115200@townofbrockway.com
SUMMARY:Monthly Meeting
DESCRIPTION:
URL:https://townofbrockway.com/event/monthly-meeting-18/
END:VEVENT
BEGIN:VEVENT
DTSTART;VALUE=DATE:20250815
DTEND;VALUE=DATE:20250816
DTSTAMP:20260424T185424
CREATED:20250709T091614Z
LAST-MODIFIED:20250709T091614Z
UID:3426-1755216000-1755302399@townofbrockway.com
SUMMARY:Trash & Recycle
DESCRIPTION:
URL:https://townofbrockway.com/event/trash-recycle-15/
END:VEVENT
BEGIN:VEVENT
DTSTART;VALUE=DATE:20250822
DTEND;VALUE=DATE:20250823
DTSTAMP:20260424T185424
CREATED:20250709T091724Z
LAST-MODIFIED:20250709T091724Z
UID:3428-1755820800-1755907199@townofbrockway.com
SUMMARY:Trash Only
DESCRIPTION:
URL:https://townofbrockway.com/event/trash-only-16/
END:VEVENT
BEGIN:VEVENT
DTSTART;VALUE=DATE:20250829
DTEND;VALUE=DATE:20250830
DTSTAMP:20260424T185424
CREATED:20250709T091746Z
LAST-MODIFIED:20250709T091746Z
UID:3430-1756425600-1756511999@townofbrockway.com
SUMMARY:Trash & Recycle
DESCRIPTION:
URL:https://townofbrockway.com/event/trash-recycle-16/
END:VEVENT
END:VCALENDAR