BEGIN:VCALENDAR
VERSION:2.0
PRODID:-//Town of Brockway - ECPv6.15.18//NONSGML v1.0//EN
CALSCALE:GREGORIAN
METHOD:PUBLISH
X-ORIGINAL-URL:https://townofbrockway.com
X-WR-CALDESC:Events for Town of Brockway
REFRESH-INTERVAL;VALUE=DURATION:PT1H
X-Robots-Tag:noindex
X-PUBLISHED-TTL:PT1H
BEGIN:VTIMEZONE
TZID:America/Chicago
BEGIN:DAYLIGHT
TZOFFSETFROM:-0600
TZOFFSETTO:-0500
TZNAME:CDT
DTSTART:20240310T080000
END:DAYLIGHT
BEGIN:STANDARD
TZOFFSETFROM:-0500
TZOFFSETTO:-0600
TZNAME:CST
DTSTART:20241103T070000
END:STANDARD
BEGIN:DAYLIGHT
TZOFFSETFROM:-0600
TZOFFSETTO:-0500
TZNAME:CDT
DTSTART:20250309T080000
END:DAYLIGHT
BEGIN:STANDARD
TZOFFSETFROM:-0500
TZOFFSETTO:-0600
TZNAME:CST
DTSTART:20251102T070000
END:STANDARD
BEGIN:DAYLIGHT
TZOFFSETFROM:-0600
TZOFFSETTO:-0500
TZNAME:CDT
DTSTART:20260308T080000
END:DAYLIGHT
BEGIN:STANDARD
TZOFFSETFROM:-0500
TZOFFSETTO:-0600
TZNAME:CST
DTSTART:20261101T070000
END:STANDARD
END:VTIMEZONE
BEGIN:VEVENT
DTSTART;VALUE=DATE:20251107
DTEND;VALUE=DATE:20251108
DTSTAMP:20260424T141521
CREATED:20251101T175548Z
LAST-MODIFIED:20251101T175548Z
UID:3460-1762473600-1762559999@townofbrockway.com
SUMMARY:Trash & Recycle
DESCRIPTION:
URL:https://townofbrockway.com/event/trash-recycle-21/
END:VEVENT
BEGIN:VEVENT
DTSTART;TZID=America/Chicago:20251112T190000
DTEND;TZID=America/Chicago:20251112T200000
DTSTAMP:20260424T141521
CREATED:20250101T204816Z
LAST-MODIFIED:20250101T204816Z
UID:3216-1762974000-1762977600@townofbrockway.com
SUMMARY:Monthly Meeting
DESCRIPTION:
URL:https://townofbrockway.com/event/monthly-meeting-21/
END:VEVENT
BEGIN:VEVENT
DTSTART;VALUE=DATE:20251114
DTEND;VALUE=DATE:20251115
DTSTAMP:20260424T141521
CREATED:20251101T175609Z
LAST-MODIFIED:20251101T175609Z
UID:3462-1763078400-1763164799@townofbrockway.com
SUMMARY:Trash Only
DESCRIPTION:
URL:https://townofbrockway.com/event/trash-only-22/
END:VEVENT
BEGIN:VEVENT
DTSTART;VALUE=DATE:20251119
DTEND;VALUE=DATE:20251120
DTSTAMP:20260424T141521
CREATED:20251101T175946Z
LAST-MODIFIED:20251101T175946Z
UID:3468-1763510400-1763596799@townofbrockway.com
SUMMARY:Brush
DESCRIPTION:
URL:https://townofbrockway.com/event/brush-6/
END:VEVENT
BEGIN:VEVENT
DTSTART;VALUE=DATE:20251121
DTEND;VALUE=DATE:20251122
DTSTAMP:20260424T141521
CREATED:20251101T175635Z
LAST-MODIFIED:20251101T175635Z
UID:3464-1763683200-1763769599@townofbrockway.com
SUMMARY:Trash & Recycle
DESCRIPTION:
URL:https://townofbrockway.com/event/trash-recycle-22/
END:VEVENT
BEGIN:VEVENT
DTSTART;VALUE=DATE:20251128
DTEND;VALUE=DATE:20251129
DTSTAMP:20260424T141521
CREATED:20251101T175707Z
LAST-MODIFIED:20251101T175920Z
UID:3466-1764288000-1764374399@townofbrockway.com
SUMMARY:Trash Only
DESCRIPTION:
URL:https://townofbrockway.com/event/trash-only-23/
END:VEVENT
END:VCALENDAR